BEGIN:VCALENDAR
VERSION:2.0
PRODID:-//Dragon des Pives - ECPv6.15.11//NONSGML v1.0//EN
CALSCALE:GREGORIAN
METHOD:PUBLISH
X-ORIGINAL-URL:https://dragondespives.ch
X-WR-CALDESC:Évènements pour Dragon des Pives
REFRESH-INTERVAL;VALUE=DURATION:PT1H
X-Robots-Tag:noindex
X-PUBLISHED-TTL:PT1H
BEGIN:VTIMEZONE
TZID:Europe/Zurich
BEGIN:DAYLIGHT
TZOFFSETFROM:+0100
TZOFFSETTO:+0200
TZNAME:CEST
DTSTART:20240331T010000
END:DAYLIGHT
BEGIN:STANDARD
TZOFFSETFROM:+0200
TZOFFSETTO:+0100
TZNAME:CET
DTSTART:20241027T010000
END:STANDARD
BEGIN:DAYLIGHT
TZOFFSETFROM:+0100
TZOFFSETTO:+0200
TZNAME:CEST
DTSTART:20250330T010000
END:DAYLIGHT
BEGIN:STANDARD
TZOFFSETFROM:+0200
TZOFFSETTO:+0100
TZNAME:CET
DTSTART:20251026T010000
END:STANDARD
BEGIN:DAYLIGHT
TZOFFSETFROM:+0100
TZOFFSETTO:+0200
TZNAME:CEST
DTSTART:20260329T010000
END:DAYLIGHT
BEGIN:STANDARD
TZOFFSETFROM:+0200
TZOFFSETTO:+0100
TZNAME:CET
DTSTART:20261025T010000
END:STANDARD
END:VTIMEZONE
BEGIN:VEVENT
DTSTART;TZID=Europe/Zurich:20250808T193000
DTEND;TZID=Europe/Zurich:20250808T220000
DTSTAMP:20260422T122014
CREATED:20250726T073251Z
LAST-MODIFIED:20250919T203958Z
UID:30951-1754681400-1754690400@dragondespives.ch
SUMMARY:JDR "Immortal Goblins" discord
DESCRIPTION:Hello les Pives! \nJe vous propose une petite soirée JDR via discord le 08.08.2025\, débutant à 19h30 ! \nLe speech: Votre dernier « plan » avec votre bande s’est très mal terminé\, et de façon si spectaculaire qu’un Dieu a décidé de vous ramener à la vie !\nMaintenant\, il adorerait voir vos prochaines catastrophes. \nLes fiches perso seront faites ensemble le Jour-J car très simple 😉 \nA vos micros pour une soirée qui promet d’être pleine de rebondissement !
URL:https://dragondespives.ch/event/jdr-immortal-goblins-discord/
LOCATION:Discord (Virtual)
ATTACH;FMTTYPE=image/jpeg:https://dragondespives.ch/wp-content/uploads/2025/07/1000091721.jpg
ORGANIZER;CN="Dominique Trauffer":MAILTO:comite@dragondespives.ch
END:VEVENT
END:VCALENDAR